BEGIN:VCALENDAR
VERSION:2.0
PRODID:-//hacksw/handcal//NONSGML v1.0//EN
CALSCALE:GREGORIAN
BEGIN:VEVENT
LOCATION:
DESCRIPTION:
DTSTART:20260420T210000Z
DTEND:20260420T220000Z
SUMMARY:...
URL;VALUE=URI:
DTSTAMP:20260423T090259Z
UID:69e9e043bcb79
END:VEVENT
END:VCALENDAR