BEGIN:VCALENDAR
VERSION:2.0
PRODID:-//hacksw/handcal//NONSGML v1.0//EN
CALSCALE:GREGORIAN
BEGIN:VEVENT
LOCATION:
DESCRIPTION:
DTSTART:20260326T090000Z
DTEND:20260326T150000Z
SUMMARY:Näitus “Iloni pildi vägi. 50 aastat Ilon Wiklandi loomingut”
URL;VALUE=URI:
DTSTAMP:20260421T083217Z
UID:69e7361125ddf
END:VEVENT
END:VCALENDAR