BEGIN:VCALENDAR
VERSION:2.0
PRODID:-//hacksw/handcal//NONSGML v1.0//EN
CALSCALE:GREGORIAN
BEGIN:VEVENT
LOCATION:
DESCRIPTION:
DTSTART:20260324T170000Z
DTEND:20260324T202500Z
SUMMARY:Privaatpostitus: Inishmaani igerik
URL;VALUE=URI:
DTSTAMP:20260419T130222Z
UID:69e4d25e1c8e8
END:VEVENT
END:VCALENDAR