BEGIN:VCALENDAR
VERSION:2.0
PRODID:-//hacksw/handcal//NONSGML v1.0//EN
CALSCALE:GREGORIAN
BEGIN:VEVENT
LOCATION:
DESCRIPTION:
DTSTART:20260319T220000Z
DTEND:20260319T230000Z
SUMMARY:Privaatpostitus: Igal vallal oma ooper
URL;VALUE=URI:
DTSTAMP:20260420T083619Z
UID:69e5e583668fe
END:VEVENT
END:VCALENDAR