BEGIN:VCALENDAR
VERSION:2.0
PRODID:-//hacksw/handcal//NONSGML v1.0//EN
CALSCALE:GREGORIAN
BEGIN:VEVENT
LOCATION:
DESCRIPTION:
DTSTART:20260320T080000Z
DTEND:20260320T090000Z
SUMMARY:Privaatpostitus: Lihula rahvarõivas pliiatsi ja paberiga Vol 2
URL;VALUE=URI:
DTSTAMP:20260420T083619Z
UID:69e5e58367158
END:VEVENT
END:VCALENDAR