BEGIN:VCALENDAR
VERSION:2.0
PRODID:-//hacksw/handcal//NONSGML v1.0//EN
CALSCALE:GREGORIAN
BEGIN:VEVENT
LOCATION:
DESCRIPTION:
DTSTART:20260317T220000Z
DTEND:20260317T230000Z
SUMMARY:Privaatpostitus: Igal vallal oma ooper
URL;VALUE=URI:
DTSTAMP:20260420T084300Z
UID:69e5e7147bb8d
END:VEVENT
END:VCALENDAR