BEGIN:VCALENDAR
VERSION:2.0
PRODID:-//hacksw/handcal//NONSGML v1.0//EN
CALSCALE:GREGORIAN
BEGIN:VEVENT
LOCATION:
DESCRIPTION:
DTSTART:20260316T220000Z
DTEND:20260316T230000Z
SUMMARY:Privaatpostitus: Igal vallal oma ooper
URL;VALUE=URI:
DTSTAMP:20260420T083940Z
UID:69e5e64cc6b41
END:VEVENT
END:VCALENDAR