BEGIN:VCALENDAR
VERSION:2.0
PRODID:-//hacksw/handcal//NONSGML v1.0//EN
CALSCALE:GREGORIAN
BEGIN:VEVENT
LOCATION:
DESCRIPTION:
DTSTART:20260316T220000Z
DTEND:20260316T230000Z
SUMMARY:Privaatpostitus: Haapsalu linna lasteaedade vabaõhunäitus “Muusikast inspireeritud”: Uuemõisa Lasteaed-Algkool ja Ridala Põhikooli lasteaed
URL;VALUE=URI:
DTSTAMP:20260420T123115Z
UID:69e61c932f415
END:VEVENT
END:VCALENDAR