BEGIN:VCALENDAR
VERSION:2.0
PRODID:-//hacksw/handcal//NONSGML v1.0//EN
CALSCALE:GREGORIAN
BEGIN:VEVENT
LOCATION:
DESCRIPTION:
DTSTART:20260317T120000Z
DTEND:20260317T160000Z
SUMMARY:Privaatpostitus: May Aavasalu juubelinäitus “Maskid ja profiilid”
URL;VALUE=URI:
DTSTAMP:20260420T083507Z
UID:69e5e53b12175
END:VEVENT
END:VCALENDAR