BEGIN:VCALENDAR
VERSION:2.0
PRODID:-//hacksw/handcal//NONSGML v1.0//EN
CALSCALE:GREGORIAN
BEGIN:VEVENT
LOCATION:
DESCRIPTION:
DTSTART:20260317T080000Z
DTEND:20260317T090000Z
SUMMARY:Privaatpostitus: Lihula rahvarõivas pliiatsi ja paberiga Vol 2
URL;VALUE=URI:
DTSTAMP:20260422T084417Z
UID:69e88a61e1185
END:VEVENT
END:VCALENDAR