BEGIN:VCALENDAR
VERSION:2.0
PRODID:-//hacksw/handcal//NONSGML v1.0//EN
CALSCALE:GREGORIAN
BEGIN:VEVENT
LOCATION:
DESCRIPTION:
DTSTART:20260315T220000Z
DTEND:20260315T230000Z
SUMMARY:Privaatpostitus: Igal vallal oma ooper
URL;VALUE=URI:
DTSTAMP:20260420T084101Z
UID:69e5e69dd2ada
END:VEVENT
END:VCALENDAR