BEGIN:VCALENDAR
VERSION:2.0
PRODID:-//hacksw/handcal//NONSGML v1.0//EN
CALSCALE:GREGORIAN
BEGIN:VEVENT
LOCATION:
DESCRIPTION:
DTSTART:20260314T100000Z
DTEND:20260314T110000Z
SUMMARY:Privaatpostitus: Dokumentaalfilmi ühisvaatamine
URL;VALUE=URI:
DTSTAMP:20260420T083427Z
UID:69e5e51305b27
END:VEVENT
END:VCALENDAR