BEGIN:VCALENDAR
VERSION:2.0
PRODID:-//hacksw/handcal//NONSGML v1.0//EN
CALSCALE:GREGORIAN
BEGIN:VEVENT
LOCATION:
DESCRIPTION:
DTSTART:20260314T100000Z
DTEND:20260314T140000Z
SUMMARY:Privaatpostitus: May Aavasalu juubelinäitus “Maskid ja profiilid”
URL;VALUE=URI:
DTSTAMP:20260420T083500Z
UID:69e5e53427484
END:VEVENT
END:VCALENDAR