BEGIN:VCALENDAR
VERSION:2.0
PRODID:-//hacksw/handcal//NONSGML v1.0//EN
CALSCALE:GREGORIAN
BEGIN:VEVENT
LOCATION:
DESCRIPTION:
DTSTART:20260313T120000Z
DTEND:20260313T160000Z
SUMMARY:Privaatpostitus: May Aavasalu juubelinäitus “Maskid ja profiilid”
URL;VALUE=URI:
DTSTAMP:20260420T083500Z
UID:69e5e534274c4
END:VEVENT
END:VCALENDAR