BEGIN:VCALENDAR
VERSION:2.0
PRODID:-//hacksw/handcal//NONSGML v1.0//EN
CALSCALE:GREGORIAN
BEGIN:VEVENT
LOCATION:
DESCRIPTION:
DTSTART:20260312T220000Z
DTEND:20260312T230000Z
SUMMARY:...
URL;VALUE=URI:
DTSTAMP:20260421T084738Z
UID:69e739aa71994
END:VEVENT
END:VCALENDAR