BEGIN:VCALENDAR
VERSION:2.0
PRODID:-//hacksw/handcal//NONSGML v1.0//EN
CALSCALE:GREGORIAN
BEGIN:VEVENT
LOCATION:
DESCRIPTION:
DTSTART:20260312T120000Z
DTEND:20260312T160000Z
SUMMARY:Privaatpostitus: May Aavasalu juubelinäitus “Maskid ja profiilid”
URL;VALUE=URI:
DTSTAMP:20260422T084101Z
UID:69e8899db0426
END:VEVENT
END:VCALENDAR