BEGIN:VCALENDAR
VERSION:2.0
PRODID:-//hacksw/handcal//NONSGML v1.0//EN
CALSCALE:GREGORIAN
BEGIN:VEVENT
LOCATION:
DESCRIPTION:
DTSTART:20260312T153000Z
DTEND:20260312T163000Z
SUMMARY:Privaatpostitus: Kohtumisõhtu kirjanikuga Kairi Look
URL;VALUE=URI:
DTSTAMP:20260420T082542Z
UID:69e5e3065b3e8
END:VEVENT
END:VCALENDAR