BEGIN:VCALENDAR
VERSION:2.0
PRODID:-//hacksw/handcal//NONSGML v1.0//EN
CALSCALE:GREGORIAN
BEGIN:VEVENT
LOCATION:
DESCRIPTION:
DTSTART:20260312T080000Z
DTEND:20260312T090000Z
SUMMARY:Privaatpostitus: Lihula rahvarõivas pliiatsi ja paberiga Vol 2
URL;VALUE=URI:
DTSTAMP:20260420T083224Z
UID:69e5e4985021b
END:VEVENT
END:VCALENDAR