BEGIN:VCALENDAR
VERSION:2.0
PRODID:-//hacksw/handcal//NONSGML v1.0//EN
CALSCALE:GREGORIAN
BEGIN:VEVENT
LOCATION:
DESCRIPTION:
DTSTART:20260311T080000Z
DTEND:20260311T090000Z
SUMMARY:Privaatpostitus: Lihula rahvarõivas pliiatsi ja paberiga Vol 2
URL;VALUE=URI:
DTSTAMP:20260422T085517Z
UID:69e88cf5c10f7
END:VEVENT
END:VCALENDAR