BEGIN:VCALENDAR
VERSION:2.0
PRODID:-//hacksw/handcal//NONSGML v1.0//EN
CALSCALE:GREGORIAN
BEGIN:VEVENT
LOCATION:
DESCRIPTION:
DTSTART:20260310T160000Z
DTEND:20260310T170000Z
SUMMARY:Privaatpostitus: NÄITUSE AVAMINE: May Aavasalu juubelinäitus “Maskid ja profiilid”
URL;VALUE=URI:
DTSTAMP:20260420T083319Z
UID:69e5e4cf2bf68
END:VEVENT
END:VCALENDAR