BEGIN:VCALENDAR
VERSION:2.0
PRODID:-//hacksw/handcal//NONSGML v1.0//EN
CALSCALE:GREGORIAN
BEGIN:VEVENT
LOCATION:
DESCRIPTION:
DTSTART:20260310T080000Z
DTEND:20260310T090000Z
SUMMARY:Privaatpostitus: Lihula rahvarõivas pliiatsi ja paberiga Vol 2
URL;VALUE=URI:
DTSTAMP:20260420T083427Z
UID:69e5e51304c05
END:VEVENT
END:VCALENDAR