BEGIN:VCALENDAR
VERSION:2.0
PRODID:-//hacksw/handcal//NONSGML v1.0//EN
CALSCALE:GREGORIAN
BEGIN:VEVENT
LOCATION:
DESCRIPTION:
DTSTART:20260306T100000Z
DTEND:20260306T160000Z
SUMMARY:Privaatpostitus: Grupinäitus “Elu tung”
URL;VALUE=URI:
DTSTAMP:20260419T130552Z
UID:69e4d330748fb
END:VEVENT
END:VCALENDAR